Package: pcaMethods Version: 2.1.0 Command: /home/biocbuild/bbs-3.22-bioc/R/bin/R CMD INSTALL pcaMethods StartedAt: 2025-07-25 17:25:30 -0400 (Fri, 25 Jul 2025) EndedAt: 2025-07-25 17:25:43 -0400 (Fri, 25 Jul 2025) EllapsedTime: 13.4 seconds RetCode: 0 Status: OK