Package: pcaMethods Version: 2.1.0 Command: /home/biocbuild/bbs-3.22-bioc/R/bin/R CMD build --keep-empty-dirs --no-resave-data --md5 pcaMethods StartedAt: 2025-07-25 20:44:56 -0400 (Fri, 25 Jul 2025) EndedAt: 2025-07-25 20:46:43 -0400 (Fri, 25 Jul 2025) EllapsedTime: 107.1 seconds RetCode: 0 Status: OK PackageFile: pcaMethods_2.1.0.tar.gz PackageFileSize: 1021 KiB