Package: pcaMethods Version: 2.1.0 Command: /Library/Frameworks/R.framework/Resources/bin/R CMD build --keep-empty-dirs --no-resave-data pcaMethods StartedAt: 2025-07-15 17:10:02 -0400 (Tue, 15 Jul 2025) EndedAt: 2025-07-15 17:10:52 -0400 (Tue, 15 Jul 2025) EllapsedTime: 49.6 seconds RetCode: 0 Status: OK PackageFile: pcaMethods_2.1.0.tar.gz PackageFileSize: 1016 KiB