Package: pcaExplorer Version: 3.3.0 Command: /Library/Frameworks/R.framework/Resources/bin/R CMD INSTALL pcaExplorer StartedAt: 2025-05-27 15:43:54 -0400 (Tue, 27 May 2025) EndedAt: 2025-05-27 15:45:08 -0400 (Tue, 27 May 2025) EllapsedTime: 73.5 seconds RetCode: 0 Status: OK