Package: pathwayPCA Version: 1.25.0 Command: rm -rf pathwayPCA.buildbin-libdir && mkdir pathwayPCA.buildbin-libdir && F:\biocbuild\bbs-3.22-bioc\R\bin\R.exe CMD INSTALL --build --library=pathwayPCA.buildbin-libdir pathwayPCA_1.25.0.tar.gz StartedAt: 2025-08-15 10:55:38 -0400 (Fri, 15 Aug 2025) EndedAt: 2025-08-15 10:56:49 -0400 (Fri, 15 Aug 2025) EllapsedTime: 71.0 seconds RetCode: 0 Status: OK PackageFile: pathwayPCA_1.25.0.zip PackageFileSize: 2.819 MiB