Package: pathview Version: 1.49.0 Command: /Library/Frameworks/R.framework/Resources/bin/R CMD check --install=check:pathview.install-out.txt --library=/Library/Frameworks/R.framework/Resources/library --no-vignettes --timings pathview_1.49.0.tar.gz StartedAt: 2025-05-07 22:30:34 -0400 (Wed, 07 May 2025) EndedAt: 2025-05-07 22:34:54 -0400 (Wed, 07 May 2025) EllapsedTime: 259.8 seconds RetCode: 0 Status: WARNINGS CheckDir: pathview.Rcheck Warnings: 1