Package: pathview Version: 1.49.0 Command: /Library/Frameworks/R.framework/Resources/bin/R CMD INSTALL pathview StartedAt: 2025-05-08 15:08:47 -0400 (Thu, 08 May 2025) EndedAt: 2025-05-08 15:08:54 -0400 (Thu, 08 May 2025) EllapsedTime: 7.4 seconds RetCode: 0 Status: OK