Package: pathview Version: 1.49.0 Command: /Library/Frameworks/R.framework/Resources/bin/R CMD check --install=check:pathview.install-out.txt --library=/Library/Frameworks/R.framework/Resources/library --no-vignettes --timings pathview_1.49.0.tar.gz StartedAt: 2025-05-09 20:57:33 -0400 (Fri, 09 May 2025) EndedAt: 2025-05-09 21:00:09 -0400 (Fri, 09 May 2025) EllapsedTime: 155.9 seconds RetCode: 0 Status: WARNINGS CheckDir: pathview.Rcheck Warnings: 1