Package: pathview Version: 1.49.0 Command: /Library/Frameworks/R.framework/Resources/bin/R CMD build --keep-empty-dirs --no-resave-data pathview StartedAt: 2025-05-09 17:19:20 -0400 (Fri, 09 May 2025) EndedAt: 2025-05-09 17:20:16 -0400 (Fri, 09 May 2025) EllapsedTime: 55.6 seconds RetCode: 0 Status: OK PackageFile: pathview_1.49.0.tar.gz PackageFileSize: 2.429 MiB