Package: pathlinkR Version: 1.3.7 Command: /home/biocbuild/bbs-3.21-bioc/R/bin/R CMD build --keep-empty-dirs --no-resave-data pathlinkR StartedAt: 2025-01-10 18:27:39 -0500 (Fri, 10 Jan 2025) EndedAt: 2025-01-10 18:31:39 -0500 (Fri, 10 Jan 2025) EllapsedTime: 240.3 seconds RetCode: 0 Status: OK PackageFile: pathlinkR_1.3.7.tar.gz PackageFileSize: 4.624 MiB