Package: pathifier Version: 1.45.0 Command: /home/biocbuild/R/R/bin/R CMD INSTALL pathifier StartedAt: 2025-01-29 19:33:17 -0000 (Wed, 29 Jan 2025) EndedAt: 2025-01-29 19:33:35 -0000 (Wed, 29 Jan 2025) EllapsedTime: 18.0 seconds RetCode: 0 Status: OK