Package: pathifier Version: 1.45.0 Command: /home/biocbuild/R/R/bin/R CMD build --keep-empty-dirs --no-resave-data pathifier StartedAt: 2025-01-29 01:11:19 -0000 (Wed, 29 Jan 2025) EndedAt: 2025-01-29 01:11:40 -0000 (Wed, 29 Jan 2025) EllapsedTime: 21.0 seconds RetCode: 0 Status: OK PackageFile: pathifier_1.45.0.tar.gz PackageFileSize: 2.026 MiB