Package: pathifier Version: 1.45.0 Command: /Library/Frameworks/R.framework/Resources/bin/R CMD build --keep-empty-dirs --no-resave-data pathifier StartedAt: 2025-02-03 17:49:09 -0500 (Mon, 03 Feb 2025) EndedAt: 2025-02-03 17:49:18 -0500 (Mon, 03 Feb 2025) EllapsedTime: 8.1 seconds RetCode: 0 Status: OK PackageFile: pathifier_1.45.0.tar.gz PackageFileSize: 2.033 MiB