Package: pathifier Version: 1.45.0 Command: rm -rf pathifier.buildbin-libdir && mkdir pathifier.buildbin-libdir && /Users/biocbuild/BBS/utils/build-universal.sh pathifier_1.45.0.tar.gz /Library/Frameworks/R.framework/Resources/bin/R pathifier.buildbin-libdir StartedAt: 2025-02-03 23:00:32 -0500 (Mon, 03 Feb 2025) EndedAt: 2025-02-03 23:00:34 -0500 (Mon, 03 Feb 2025) EllapsedTime: 2.1 seconds RetCode: 0 Status: OK PackageFile: pathifier_1.45.0.tgz PackageFileSize: 2.058 MiB