Package: pathRender Version: 1.77.0 Command: rm -rf pathRender.buildbin-libdir && mkdir pathRender.buildbin-libdir && F:\biocbuild\bbs-3.22-bioc\R\bin\R.exe CMD INSTALL --build --library=pathRender.buildbin-libdir pathRender_1.77.0.tar.gz StartedAt: 2025-08-15 10:55:34 -0400 (Fri, 15 Aug 2025) EndedAt: 2025-08-15 10:55:59 -0400 (Fri, 15 Aug 2025) EllapsedTime: 24.8 seconds RetCode: 0 Status: OK PackageFile: pathRender_1.77.0.zip PackageFileSize: 208.2 KiB