Package: pathRender Version: 1.75.0 Command: /Library/Frameworks/R.framework/Resources/bin/R CMD INSTALL pathRender StartedAt: 2025-02-03 15:18:03 -0500 (Mon, 03 Feb 2025) EndedAt: 2025-02-03 15:18:22 -0500 (Mon, 03 Feb 2025) EllapsedTime: 18.9 seconds RetCode: 0 Status: OK