Package: pathRender Version: 1.75.0 Command: /Library/Frameworks/R.framework/Resources/bin/R CMD check --install=check:pathRender.install-out.txt --library=/Library/Frameworks/R.framework/Resources/library --no-vignettes --timings pathRender_1.75.0.tar.gz StartedAt: 2025-02-03 22:21:02 -0500 (Mon, 03 Feb 2025) EndedAt: 2025-02-03 22:23:18 -0500 (Mon, 03 Feb 2025) EllapsedTime: 135.7 seconds RetCode: 0 Status: OK CheckDir: pathRender.Rcheck Warnings: 0