Package: pathRender Version: 1.75.0 Command: /home/biocbuild/R/R/bin/R CMD check --install=check:pathRender.install-out.txt --library=/home/biocbuild/R/R/site-library --no-vignettes --timings pathRender_1.75.0.tar.gz StartedAt: 2025-01-28 13:45:38 -0000 (Tue, 28 Jan 2025) EndedAt: 2025-01-28 13:47:38 -0000 (Tue, 28 Jan 2025) EllapsedTime: 120.1 seconds RetCode: 0 Status: OK CheckDir: pathRender.Rcheck Warnings: 0