Package: pathMED Version: 1.1.4 Command: /home/biocbuild/bbs-3.22-bioc/R/bin/R CMD INSTALL pathMED StartedAt: 2025-09-29 16:10:25 -0400 (Mon, 29 Sep 2025) EndedAt: 2025-09-29 16:10:40 -0400 (Mon, 29 Sep 2025) EllapsedTime: 15.3 seconds RetCode: 0 Status: OK