Package: pathMED Version: 1.1.4 Command: /home/biocbuild/bbs-3.22-bioc/R/bin/R CMD build --keep-empty-dirs --no-resave-data --md5 pathMED StartedAt: 2025-09-29 19:31:11 -0400 (Mon, 29 Sep 2025) EndedAt: 2025-09-29 19:32:29 -0400 (Mon, 29 Sep 2025) EllapsedTime: 78.0 seconds RetCode: 0 Status: OK PackageFile: pathMED_1.1.4.tar.gz PackageFileSize: 6.345 MiB