Package: pathMED Version: 1.3.0 Command: /home/biocbuild/bbs-3.23-bioc/R/bin/R CMD INSTALL pathMED StartedAt: 2025-11-17 15:56:48 -0500 (Mon, 17 Nov 2025) EndedAt: 2025-11-17 15:57:01 -0500 (Mon, 17 Nov 2025) EllapsedTime: 13.3 seconds RetCode: 0 Status: OK