Package: pathMED Version: 1.3.0 Command: rm -rf pathMED.buildbin-libdir && mkdir pathMED.buildbin-libdir && /Users/biocbuild/BBS/utils/build-universal.sh pathMED_1.3.0.tar.gz /Library/Frameworks/R.framework/Resources/bin/R pathMED.buildbin-libdir StartedAt: 2025-11-22 01:49:00 -0500 (Sat, 22 Nov 2025) EndedAt: 2025-11-22 01:49:22 -0500 (Sat, 22 Nov 2025) EllapsedTime: 22.0 seconds RetCode: 0 Status: OK PackageFile: pathMED_1.3.0.tgz PackageFileSize: 6.336 MiB