Package: pathMED Version: 1.1.6 Command: /Library/Frameworks/R.framework/Resources/bin/R CMD build --keep-empty-dirs --no-resave-data pathMED StartedAt: 2025-10-27 17:18:08 -0400 (Mon, 27 Oct 2025) EndedAt: 2025-10-27 17:18:44 -0400 (Mon, 27 Oct 2025) EllapsedTime: 35.4 seconds RetCode: 0 Status: OK PackageFile: pathMED_1.1.6.tar.gz PackageFileSize: 6.348 MiB