Package: pathMED Version: 1.1.6 Command: rm -rf pathMED.buildbin-libdir && mkdir pathMED.buildbin-libdir && /Users/biocbuild/BBS/utils/build-universal.sh pathMED_1.1.6.tar.gz /Library/Frameworks/R.framework/Resources/bin/R pathMED.buildbin-libdir StartedAt: 2025-10-27 23:13:11 -0400 (Mon, 27 Oct 2025) EndedAt: 2025-10-27 23:13:17 -0400 (Mon, 27 Oct 2025) EllapsedTime: 6.1 seconds RetCode: 0 Status: OK PackageFile: pathMED_1.1.6.tgz PackageFileSize: 6.338 MiB