Package: partCNV Version: 1.5.0 Command: /Library/Frameworks/R.framework/Resources/bin/R CMD check --install=check:partCNV.install-out.txt --library=/Library/Frameworks/R.framework/Resources/library --no-vignettes --timings partCNV_1.5.0.tar.gz StartedAt: 2025-02-16 20:33:59 -0500 (Sun, 16 Feb 2025) EndedAt: 2025-02-16 20:36:14 -0500 (Sun, 16 Feb 2025) EllapsedTime: 135.7 seconds RetCode: 0 Status: OK CheckDir: partCNV.Rcheck Warnings: 0