Package: parody Version: 1.67.0 Command: /home/biocbuild/bbs-3.22-bioc/R/bin/R CMD INSTALL parody StartedAt: 2025-10-22 15:03:13 -0400 (Wed, 22 Oct 2025) EndedAt: 2025-10-22 15:03:25 -0400 (Wed, 22 Oct 2025) EllapsedTime: 11.4 seconds RetCode: 0 Status: OK