Package: parody Version: 1.67.0 Command: /home/biocbuild/bbs-3.22-bioc/R/bin/R CMD build --keep-empty-dirs --no-resave-data --md5 parody StartedAt: 2025-10-22 19:14:39 -0400 (Wed, 22 Oct 2025) EndedAt: 2025-10-22 19:14:46 -0400 (Wed, 22 Oct 2025) EllapsedTime: 7.0 seconds RetCode: 0 Status: OK PackageFile: parody_1.67.0.tar.gz PackageFileSize: 489.6 KiB