Package: parody Version: 1.67.0 Command: /Library/Frameworks/R.framework/Resources/bin/R CMD INSTALL parody StartedAt: 2025-05-27 15:05:38 -0400 (Tue, 27 May 2025) EndedAt: 2025-05-27 15:06:17 -0400 (Tue, 27 May 2025) EllapsedTime: 39.5 seconds RetCode: 0 Status: OK