Package: parglms Version: 1.41.0 Command: chmod a+r parglms -R && F:\biocbuild\bbs-3.22-bioc\R\bin\R.exe CMD build --keep-empty-dirs --no-resave-data parglms StartedAt: 2025-08-14 22:11:23 -0400 (Thu, 14 Aug 2025) EndedAt: 2025-08-14 22:11:51 -0400 (Thu, 14 Aug 2025) EllapsedTime: 27.7 seconds RetCode: 0 Status: OK PackageFile: parglms_1.41.0.tar.gz PackageFileSize: 274 KiB