Package: parglms Version: 1.39.0 Command: E:\biocbuild\bbs-3.21-bioc\R\bin\R.exe CMD INSTALL parglms StartedAt: 2025-02-14 15:35:43 -0500 (Fri, 14 Feb 2025) EndedAt: 2025-02-14 15:35:57 -0500 (Fri, 14 Feb 2025) EllapsedTime: 14.0 seconds RetCode: 0 Status: OK