Package: parglms Version: 1.39.0 Command: E:\biocbuild\bbs-3.21-bioc\R\bin\R.exe CMD check --no-multiarch --install=check:parglms.install-out.txt --library=E:\biocbuild\bbs-3.21-bioc\R\library --no-vignettes --timings parglms_1.39.0.tar.gz StartedAt: 2025-02-15 04:04:08 -0500 (Sat, 15 Feb 2025) EndedAt: 2025-02-15 04:05:14 -0500 (Sat, 15 Feb 2025) EllapsedTime: 66.3 seconds RetCode: 0 Status: OK CheckDir: parglms.Rcheck Warnings: 0