Package: parglms Version: 1.39.0 Command: /Library/Frameworks/R.framework/Resources/bin/R CMD build --keep-empty-dirs --no-resave-data parglms StartedAt: 2025-02-16 17:39:54 -0500 (Sun, 16 Feb 2025) EndedAt: 2025-02-16 17:40:54 -0500 (Sun, 16 Feb 2025) EllapsedTime: 59.0 seconds RetCode: 0 Status: OK PackageFile: parglms_1.39.0.tar.gz PackageFileSize: 273.8 KiB