Package: parglms Version: 1.41.0 Maintainer: VJ Carey MaintainerEmail: stvjc at channing.harvard.edu git_url: https://git.bioconductor.org/packages/parglms git_branch: devel git_last_commit: 8e8dd3e git_last_commit_date: 2025-04-15 10:37:29 -0400 (Tue, 15 Apr 2025)