Package: panp Version: 1.79.0 Command: chmod a+r panp -R && F:\biocbuild\bbs-3.22-bioc\R\bin\R.exe CMD build --keep-empty-dirs --no-resave-data panp StartedAt: 2025-08-14 22:10:52 -0400 (Thu, 14 Aug 2025) EndedAt: 2025-08-14 22:11:22 -0400 (Thu, 14 Aug 2025) EllapsedTime: 30.3 seconds RetCode: 0 Status: OK PackageFile: panp_1.79.0.tar.gz PackageFileSize: 512.4 KiB