Package: panp Version: 1.77.0 Command: E:\biocbuild\bbs-3.21-bioc\R\bin\R.exe CMD INSTALL panp StartedAt: 2025-02-05 15:29:06 -0500 (Wed, 05 Feb 2025) EndedAt: 2025-02-05 15:29:12 -0500 (Wed, 05 Feb 2025) EllapsedTime: 6.5 seconds RetCode: 0 Status: OK