Package: panp Version: 1.77.0 Command: chmod a+r panp -R && E:\biocbuild\bbs-3.21-bioc\R\bin\R.exe CMD build --keep-empty-dirs --no-resave-data panp StartedAt: 2025-02-05 20:42:13 -0500 (Wed, 05 Feb 2025) EndedAt: 2025-02-05 20:42:29 -0500 (Wed, 05 Feb 2025) EllapsedTime: 15.9 seconds RetCode: 0 Status: OK PackageFile: panp_1.77.0.tar.gz PackageFileSize: 512.2 KiB