Package: panp Version: 1.77.0 Command: rm -rf panp.buildbin-libdir && mkdir panp.buildbin-libdir && E:\biocbuild\bbs-3.21-bioc\R\bin\R.exe CMD INSTALL --build --library=panp.buildbin-libdir panp_1.77.0.tar.gz StartedAt: 2025-02-04 08:34:04 -0500 (Tue, 04 Feb 2025) EndedAt: 2025-02-04 08:34:11 -0500 (Tue, 04 Feb 2025) EllapsedTime: 7.6 seconds RetCode: 0 Status: OK PackageFile: panp_1.77.0.zip PackageFileSize: 529 KiB