Package: panp Version: 1.79.0 Command: /home/biocbuild/bbs-3.22-bioc/R/bin/R CMD INSTALL panp StartedAt: 2025-10-10 15:25:00 -0400 (Fri, 10 Oct 2025) EndedAt: 2025-10-10 15:25:03 -0400 (Fri, 10 Oct 2025) EllapsedTime: 3.4 seconds RetCode: 0 Status: OK