Package: panp Version: 1.79.0 Command: /home/biocbuild/bbs-3.22-bioc/R/bin/R CMD build --keep-empty-dirs --no-resave-data --md5 panp StartedAt: 2025-10-10 19:24:04 -0400 (Fri, 10 Oct 2025) EndedAt: 2025-10-10 19:24:21 -0400 (Fri, 10 Oct 2025) EllapsedTime: 17.0 seconds RetCode: 0 Status: OK PackageFile: panp_1.79.0.tar.gz PackageFileSize: 671.8 KiB