Package: panp Version: 1.77.0 Command: /home/biocbuild/bbs-3.21-bioc/R/bin/R CMD check --install=check:panp.install-out.txt --library=/home/biocbuild/bbs-3.21-bioc/R/site-library --timings panp_1.77.0.tar.gz StartedAt: 2025-02-11 01:17:30 -0500 (Tue, 11 Feb 2025) EndedAt: 2025-02-11 01:18:20 -0500 (Tue, 11 Feb 2025) EllapsedTime: 50.1 seconds RetCode: 0 Status: OK CheckDir: panp.Rcheck Warnings: 0