Package: panp Version: 1.77.0 Command: /home/biocbuild/bbs-3.21-bioc/R/bin/R CMD build --keep-empty-dirs --no-resave-data panp StartedAt: 2025-02-05 18:35:10 -0500 (Wed, 05 Feb 2025) EndedAt: 2025-02-05 18:35:25 -0500 (Wed, 05 Feb 2025) EllapsedTime: 15.1 seconds RetCode: 0 Status: OK PackageFile: panp_1.77.0.tar.gz PackageFileSize: 671.3 KiB