Package: panp Version: 1.77.0 Command: /Library/Frameworks/R.framework/Resources/bin/R CMD INSTALL panp StartedAt: 2025-02-05 15:05:31 -0500 (Wed, 05 Feb 2025) EndedAt: 2025-02-05 15:06:05 -0500 (Wed, 05 Feb 2025) EllapsedTime: 34.4 seconds RetCode: 0 Status: OK