Package: panp Version: 1.77.0 Command: /Library/Frameworks/R.framework/Resources/bin/R CMD check --install=check:panp.install-out.txt --library=/Library/Frameworks/R.framework/Resources/library --no-vignettes --timings panp_1.77.0.tar.gz StartedAt: 2025-02-03 22:19:12 -0500 (Mon, 03 Feb 2025) EndedAt: 2025-02-03 22:20:25 -0500 (Mon, 03 Feb 2025) EllapsedTime: 72.7 seconds RetCode: 0 Status: OK CheckDir: panp.Rcheck Warnings: 0