Package: panp Version: 1.77.0 Command: /home/biocbuild/R/R/bin/R CMD check --install=check:panp.install-out.txt --library=/home/biocbuild/R/R/site-library --no-vignettes --timings panp_1.77.0.tar.gz StartedAt: 2025-01-28 13:43:29 -0000 (Tue, 28 Jan 2025) EndedAt: 2025-01-28 13:44:56 -0000 (Tue, 28 Jan 2025) EllapsedTime: 86.3 seconds RetCode: 0 Status: OK CheckDir: panp.Rcheck Warnings: 0