Package: panp Version: 1.77.0 Command: /home/biocbuild/R/R/bin/R CMD build --keep-empty-dirs --no-resave-data panp StartedAt: 2025-01-29 01:10:48 -0000 (Wed, 29 Jan 2025) EndedAt: 2025-01-29 01:11:04 -0000 (Wed, 29 Jan 2025) EllapsedTime: 16.1 seconds RetCode: 0 Status: OK PackageFile: panp_1.77.0.tar.gz PackageFileSize: 663.1 KiB