Package: panp Version: 1.77.0 Command: /Library/Frameworks/R.framework/Resources/bin/R CMD build --keep-empty-dirs --no-resave-data panp StartedAt: 2025-02-05 17:13:44 -0500 (Wed, 05 Feb 2025) EndedAt: 2025-02-05 17:13:53 -0500 (Wed, 05 Feb 2025) EllapsedTime: 9.1 seconds RetCode: 0 Status: OK PackageFile: panp_1.77.0.tar.gz PackageFileSize: 671.3 KiB