##############################################################################
##############################################################################
###
### Running command:
###
###   rm -rf panelcn.mops.buildbin-libdir && mkdir panelcn.mops.buildbin-libdir && E:\biocbuild\bbs-3.21-bioc\R\bin\R.exe CMD INSTALL --build --library=panelcn.mops.buildbin-libdir panelcn.mops_1.29.0.tar.gz
###
##############################################################################
##############################################################################


* installing *source* package 'panelcn.mops' ...
** this is package 'panelcn.mops' version '1.29.0'
** using staged installation
** R
** data
*** moving datasets to lazyload DB
** inst
** byte-compile and prepare package for lazy loading
** help
*** installing help indices
** building package indices
** installing vignettes
** testing if installed package can be loaded from temporary location
** testing if installed package can be loaded from final location
** testing if installed package keeps a record of temporary installation path
* MD5 sums
packaged installation of 'panelcn.mops' as panelcn.mops_1.29.0.zip
* DONE (panelcn.mops)