Package: panelcn.mops Version: 1.29.0 Command: /Library/Frameworks/R.framework/Resources/bin/R CMD build --keep-empty-dirs --no-resave-data panelcn.mops StartedAt: 2025-02-03 17:49:11 -0500 (Mon, 03 Feb 2025) EndedAt: 2025-02-03 17:50:04 -0500 (Mon, 03 Feb 2025) EllapsedTime: 53.2 seconds RetCode: 0 Status: OK PackageFile: panelcn.mops_1.29.0.tar.gz PackageFileSize: 609.2 KiB