Package: pandaR Version: 1.41.0 Command: rm -rf pandaR.buildbin-libdir && mkdir pandaR.buildbin-libdir && F:\biocbuild\bbs-3.22-bioc\R\bin\R.exe CMD INSTALL --build --library=pandaR.buildbin-libdir pandaR_1.41.0.tar.gz StartedAt: 2025-08-15 10:54:58 -0400 (Fri, 15 Aug 2025) EndedAt: 2025-08-15 10:55:16 -0400 (Fri, 15 Aug 2025) EllapsedTime: 17.8 seconds RetCode: 0 Status: OK PackageFile: pandaR_1.41.0.zip PackageFileSize: 9.076 MiB