Package: pairkat Version: 1.13.0 Command: E:\biocbuild\bbs-3.21-bioc\R\bin\R.exe CMD check --no-multiarch --install=check:pairkat.install-out.txt --library=E:\biocbuild\bbs-3.21-bioc\R\library --no-vignettes --timings pairkat_1.13.0.tar.gz StartedAt: 2025-02-04 04:20:53 -0500 (Tue, 04 Feb 2025) EndedAt: 2025-02-04 04:29:31 -0500 (Tue, 04 Feb 2025) EllapsedTime: 518.0 seconds RetCode: 0 Status: OK CheckDir: pairkat.Rcheck Warnings: 0